Workbook

Sheet Cómo usarla
A1: Plantilla de control de asistencia para clases de Pilates
A3: Una plantilla gratuita de Tentare (tentare.app) para llevar alumnas, bonos, clases y asistencia en una hoja de cálculo.
A5: CÓMO SE USA
A6: 1. «Alumnas»: una fila por alumna y bono. Escribe el nombre, el bono, las sesiones compradas, la fecha de compra y la caducidad.
A7: 2. «Clases»: una fila por clase, con un ID único (por ejemplo 2026-10-06-0900-REF), fecha, hora, tipo, instructora, sala y aforo.
A8: 3. «Asistencia»: cada vez que una alumna reserva una clase, añade una fila con la fecha, el ID de la clase y su nombre
A9: (escrito igual que en «Alumnas»). Después de la clase, marca en «Asistió»: Sí, No o Canceló tarde.
A10: 4. Las columnas con cabecera GRIS se calculan solas: sesiones usadas y restantes, estado del bono, reservas, asistencias y ocupación.
A12: REGLAS QUE APLICA
A13: · Descuenta sesión si la alumna asistió o canceló tarde (cambia la regla en la columna «Descuenta sesión» si tu política es otra).
A14: · Solo cuenta las sesiones desde la fecha de compra del bono.
A15: · Estado: «Caducado» si ya pasó la fecha de caducidad; «Agotado» si no quedan sesiones; si no, «Activo».
... A25: · Cuando el estudio crece, un software de reservas lo hace solo: las alumnas reservan desde el móvil y la asistencia se lleva al pasar lista.

Sheet Alumnas
A1: Nombre | B1: Teléfono | C1: Email | D1: Tipo de bono | E1: Sesiones compradas | F1: Fecha de compra | G1: Caducidad | H1: Sesiones usadas | I1: Sesiones restantes | J1: Estado
A2: Ana García (ejemplo) | B2: 600 000 000 | C2: ana@example.com | D2: Bono 8 clases reformer | E2: 8 | F2: 46296 | G2: 46356 | H2: =IF(A2="","",IF(F2="",COUNTIFS(Asistencia!$C$2:$C$5001,A2,Asistencia!$E$2:$E$5001,"Sí"),COUNTIFS(Asistencia!$C$2:$C$5001,A2,Asistencia!$E$2:$E$5001,"Sí",Asistencia!$A$2:$A$5001,">="&F2))) | I2: =IF(OR(A2="",E2=""),"",E2-H2) | J2: =IF(A2="","",IF(AND(G2<>"",TODAY()>G2),"Caducado",IF(AND(E2<>"",I2<=0),"Agotado","Activo")))
H3: =IF(A3="","",IF(F3="",COUNTIFS(Asistencia!$C$2:$C$5001,A3,Asistencia!$E$2:$E$5001,"Sí"),COUNTIFS(Asistencia!$C$2:$C$5001,A3,Asistencia!$E$2:$E$5001,"Sí",Asistencia!$A$2:$A$5001,">="&F3))) | I3: =IF(OR(A3="",E3=""),"",E3-H3) | J3: =IF(A3="","",IF(AND(G3<>"",TODAY()>G3),"Caducado",IF(AND(E3<>"",I3<=0),"Agotado","Activo")))
H4: =IF(A4="","",IF(F4="",COUNTIFS(Asistencia!$C$2:$C$5001,A4,Asistencia!$E$2:$E$5001,"Sí"),COUNTIFS(Asistencia!$C$2:$C$5001,A4,Asistencia!$E$2:$E$5001,"Sí",Asistencia!$A$2:$A$5001,">="&F4))) | I4: =IF(OR(A4="",E4=""),"",E4-H4) | J4: =IF(A4="","",IF(AND(G4<>"",TODAY()>G4),"Caducado",IF(AND(E4<>"",I4<=0),"Agotado","Activo")))
H5: =IF(A5="","",IF(F5="",COUNTIFS(Asistencia!$C$2:$C$5001,A5,Asistencia!$E$2:$E$5001,"Sí"),COUNTIFS(Asistencia!$C$2:$C$5001,A5,Asistencia!$E$2:$E$5001,"Sí",Asistencia!$A$2:$A$5001,">="&F5))) | I5: =IF(OR(A5="",E5=""),"",E5-H5) | J5: =IF(A5="","",IF(AND(G5<>"",TODAY()>G5),"Caducado",IF(AND(E5<>"",I5<=0),"Agotado","Activo")))
H6: =IF(A6="","",IF(F6="",COUNTIFS(Asistencia!$C$2:$C$5001,A6,Asistencia!$E$2:$E$5001,"Sí"),COUNTIFS(Asistencia!$C$2:$C$5001,A6,Asistencia!$E$2:$E$5001,"Sí",Asistencia!$A$2:$A$5001,">="&F6))) | I6: =IF(OR(A6="",E6=""),"",E6-H6) | J6: =IF(A6="","",IF(AND(G6<>"",TODAY()>G6),"Caducado",IF(AND(E6<>"",I6<=0),"Agotado","Activo")))
H7: =IF(A7="","",IF(F7="",COUNTIFS(Asistencia!$C$2:$C$5001,A7,Asistencia!$E$2:$E$5001,"Sí"),COUNTIFS(Asistencia!$C$2:$C$5001,A7,Asistencia!$E$2:$E$5001,"Sí",Asistencia!$A$2:$A$5001,">="&F7))) | I7: =IF(OR(A7="",E7=""),"",E7-H7) | J7: =IF(A7="","",IF(AND(G7<>"",TODAY()>G7),"Caducado",IF(AND(E7<>"",I7<=0),"Agotado","Activo")))
H8: =IF(A8="","",IF(F8="",COUNTIFS(Asistencia!$C$2:$C$5001,A8,Asistencia!$E$2:$E$5001,"Sí"),COUNTIFS(Asistencia!$C$2:$C$5001,A8,Asistencia!$E$2:$E$5001,"Sí",Asistencia!$A$2:$A$5001,">="&F8))) | I8: =IF(OR(A8="",E8=""),"",E8-H8) | J8: =IF(A8="","",IF(AND(G8<>"",TODAY()>G8),"Caducado",IF(AND(E8<>"",I8<=0),"Agotado","Activo")))
H9: =IF(A9="","",IF(F9="",COUNTIFS(Asistencia!$C$2:$C$5001,A9,Asistencia!$E$2:$E$5001,"Sí"),COUNTIFS(Asistencia!$C$2:$C$5001,A9,Asistencia!$E$2:$E$5001,"Sí",Asistencia!$A$2:$A$5001,">="&F9))) | I9: =IF(OR(A9="",E9=""),"",E9-H9) | J9: =IF(A9="","",IF(AND(G9<>"",TODAY()>G9),"Caducado",IF(AND(E9<>"",I9<=0),"Agotado","Activo")))
H10: =IF(A10="","",IF(F10="",COUNTIFS(Asistencia!$C$2:$C$5001,A10,Asistencia!$E$2:$E$5001,"Sí"),COUNTIFS(Asistencia!$C$2:$C$5001,A10,Asistencia!$E$2:$E$5001,"Sí",Asistencia!$A$2:$A$5001,">="&F10))) | I10: =IF(OR(A10="",E10=""),"",E10-H10) | J10: =IF(A10="","",IF(AND(G10<>"",TODAY()>G10),"Caducado",IF(AND(E10<>"",I10<=0),"Agotado","Activo")))
H11: =IF(A11="","",IF(F11="",COUNTIFS(Asistencia!$C$2:$C$5001,A11,Asistencia!$E$2:$E$5001,"Sí"),COUNTIFS(Asistencia!$C$2:$C$5001,A11,Asistencia!$E$2:$E$5001,"Sí",Asistencia!$A$2:$A$5001,">="&F11))) | I11: =IF(OR(A11="",E11=""),"",E11-H11) | J11: =IF(A11="","",IF(AND(G11<>"",TODAY()>G11),"Caducado",IF(AND(E11<>"",I11<=0),"Agotado","Activo")))
H12: =IF(A12="","",IF(F12="",COUNTIFS(Asistencia!$C$2:$C$5001,A12,Asistencia!$E$2:$E$5001,"Sí"),COUNTIFS(Asistencia!$C$2:$C$5001,A12,Asistencia!$E$2:$E$5001,"Sí",Asistencia!$A$2:$A$5001,">="&F12))) | I12: =IF(OR(A12="",E12=""),"",E12-H12) | J12: =IF(A12="","",IF(AND(G12<>"",TODAY()>G12),"Caducado",IF(AND(E12<>"",I12<=0),"Agotado","Activo")))
H13: =IF(A13="","",IF(F13="",COUNTIFS(Asistencia!$C$2:$C$5001,A13,Asistencia!$E$2:$E$5001,"Sí"),COUNTIFS(Asistencia!$C$2:$C$5001,A13,Asistencia!$E$2:$E$5001,"Sí",Asistencia!$A$2:$A$5001,">="&F13))) | I13: =IF(OR(A13="",E13=""),"",E13-H13) | J13: =IF(A13="","",IF(AND(G13<>"",TODAY()>G13),"Caducado",IF(AND(E13<>"",I13<=0),"Agotado","Activo")))
H14: =IF(A14="","",IF(F14="",COUNTIFS(Asistencia!$C$2:$C$5001,A14,Asistencia!$E$2:$E$5001,"Sí"),COUNTIFS(Asistencia!$C$2:$C$5001,A14,Asistencia!$E$2:$E$5001,"Sí",Asistencia!$A$2:$A$5001,">="&F14))) | I14: =IF(OR(A14="",E14=""),"",E14-H14) | J14: =IF(A14="","",IF(AND(G14<>"",TODAY()>G14),"Caducado",IF(AND(E14<>"",I14<=0),"Agotado","Activo")))
... H301: =IF(A301="","",IF(F301="",COUNTIFS(Asistencia!$C$2:$C$5001,A301,Asistencia!$E$2:$E$5001,"Sí"),COUNTIFS(Asistencia!$C$2:$C$5001,A301,Asistencia!$E$2:$E$5001,"Sí",Asistencia!$A$2:$A$5001,">="&F301))) | I301: =IF(OR(A301="",E301=""),"",E301-H301) | J301: =IF(A301="","",IF(AND(G301<>"",TODAY()>G301),"Caducado",IF(AND(E301<>"",I301<=0),"Agotado","Activo")))

Sheet Clases
A1: ID clase | B1: Fecha | C1: Hora | D1: Tipo | E1: Instructora | F1: Sala | G1: Aforo | H1: Reservas | I1: Asistencias | J1: Ocupación %
A2: 2026-10-06-0900-REF | B2: 46301 | C2: 09:00 | D2: Reformer | E2: Instructora (ejemplo) | F2: Sala 1 | G2: 8 | H2: =IF(A2="","",COUNTIF(Asistencia!$B$2:$B$5001,A2)) | I2: =IF(A2="","",COUNTIFS(Asistencia!$B$2:$B$5001,A2,Asistencia!$D$2:$D$5001,"Sí")) | J2: =IF(OR(A2="",G2="",G2=0),"",I2/G2)
H3: =IF(A3="","",COUNTIF(Asistencia!$B$2:$B$5001,A3)) | I3: =IF(A3="","",COUNTIFS(Asistencia!$B$2:$B$5001,A3,Asistencia!$D$2:$D$5001,"Sí")) | J3: =IF(OR(A3="",G3="",G3=0),"",I3/G3)
H4: =IF(A4="","",COUNTIF(Asistencia!$B$2:$B$5001,A4)) | I4: =IF(A4="","",COUNTIFS(Asistencia!$B$2:$B$5001,A4,Asistencia!$D$2:$D$5001,"Sí")) | J4: =IF(OR(A4="",G4="",G4=0),"",I4/G4)
H5: =IF(A5="","",COUNTIF(Asistencia!$B$2:$B$5001,A5)) | I5: =IF(A5="","",COUNTIFS(Asistencia!$B$2:$B$5001,A5,Asistencia!$D$2:$D$5001,"Sí")) | J5: =IF(OR(A5="",G5="",G5=0),"",I5/G5)
H6: =IF(A6="","",COUNTIF(Asistencia!$B$2:$B$5001,A6)) | I6: =IF(A6="","",COUNTIFS(Asistencia!$B$2:$B$5001,A6,Asistencia!$D$2:$D$5001,"Sí")) | J6: =IF(OR(A6="",G6="",G6=0),"",I6/G6)
H7: =IF(A7="","",COUNTIF(Asistencia!$B$2:$B$5001,A7)) | I7: =IF(A7="","",COUNTIFS(Asistencia!$B$2:$B$5001,A7,Asistencia!$D$2:$D$5001,"Sí")) | J7: =IF(OR(A7="",G7="",G7=0),"",I7/G7)
H8: =IF(A8="","",COUNTIF(Asistencia!$B$2:$B$5001,A8)) | I8: =IF(A8="","",COUNTIFS(Asistencia!$B$2:$B$5001,A8,Asistencia!$D$2:$D$5001,"Sí")) | J8: =IF(OR(A8="",G8="",G8=0),"",I8/G8)
H9: =IF(A9="","",COUNTIF(Asistencia!$B$2:$B$5001,A9)) | I9: =IF(A9="","",COUNTIFS(Asistencia!$B$2:$B$5001,A9,Asistencia!$D$2:$D$5001,"Sí")) | J9: =IF(OR(A9="",G9="",G9=0),"",I9/G9)
H10: =IF(A10="","",COUNTIF(Asistencia!$B$2:$B$5001,A10)) | I10: =IF(A10="","",COUNTIFS(Asistencia!$B$2:$B$5001,A10,Asistencia!$D$2:$D$5001,"Sí")) | J10: =IF(OR(A10="",G10="",G10=0),"",I10/G10)
H11: =IF(A11="","",COUNTIF(Asistencia!$B$2:$B$5001,A11)) | I11: =IF(A11="","",COUNTIFS(Asistencia!$B$2:$B$5001,A11,Asistencia!$D$2:$D$5001,"Sí")) | J11: =IF(OR(A11="",G11="",G11=0),"",I11/G11)
H12: =IF(A12="","",COUNTIF(Asistencia!$B$2:$B$5001,A12)) | I12: =IF(A12="","",COUNTIFS(Asistencia!$B$2:$B$5001,A12,Asistencia!$D$2:$D$5001,"Sí")) | J12: =IF(OR(A12="",G12="",G12=0),"",I12/G12)
H13: =IF(A13="","",COUNTIF(Asistencia!$B$2:$B$5001,A13)) | I13: =IF(A13="","",COUNTIFS(Asistencia!$B$2:$B$5001,A13,Asistencia!$D$2:$D$5001,"Sí")) | J13: =IF(OR(A13="",G13="",G13=0),"",I13/G13)
H14: =IF(A14="","",COUNTIF(Asistencia!$B$2:$B$5001,A14)) | I14: =IF(A14="","",COUNTIFS(Asistencia!$B$2:$B$5001,A14,Asistencia!$D$2:$D$5001,"Sí")) | J14: =IF(OR(A14="",G14="",G14=0),"",I14/G14)
... H301: =IF(A301="","",COUNTIF(Asistencia!$B$2:$B$5001,A301)) | I301: =IF(A301="","",COUNTIFS(Asistencia!$B$2:$B$5001,A301,Asistencia!$D$2:$D$5001,"Sí")) | J301: =IF(OR(A301="",G301="",G301=0),"",I301/G301)

Sheet Asistencia
A1: Fecha | B1: ID clase | C1: Alumna | D1: Asistió | E1: Descuenta sesión
A2: 46301 | B2: 2026-10-06-0900-REF | C2: Ana García (ejemplo) | D2: Sí | E2: =IF(D2="","",IF(OR(D2="Sí",D2="Canceló tarde"),"Sí","No"))
E3: =IF(D3="","",IF(OR(D3="Sí",D3="Canceló tarde"),"Sí","No"))
E4: =IF(D4="","",IF(OR(D4="Sí",D4="Canceló tarde"),"Sí","No"))
E5: =IF(D5="","",IF(OR(D5="Sí",D5="Canceló tarde"),"Sí","No"))
E6: =IF(D6="","",IF(OR(D6="Sí",D6="Canceló tarde"),"Sí","No"))
E7: =IF(D7="","",IF(OR(D7="Sí",D7="Canceló tarde"),"Sí","No"))
E8: =IF(D8="","",IF(OR(D8="Sí",D8="Canceló tarde"),"Sí","No"))
E9: =IF(D9="","",IF(OR(D9="Sí",D9="Canceló tarde"),"Sí","No"))
E10: =IF(D10="","",IF(OR(D10="Sí",D10="Canceló tarde"),"Sí","No"))
E11: =IF(D11="","",IF(OR(D11="Sí",D11="Canceló tarde"),"Sí","No"))
E12: =IF(D12="","",IF(OR(D12="Sí",D12="Canceló tarde"),"Sí","No"))
E13: =IF(D13="","",IF(OR(D13="Sí",D13="Canceló tarde"),"Sí","No"))
E14: =IF(D14="","",IF(OR(D14="Sí",D14="Canceló tarde"),"Sí","No"))
... E301: =IF(D301="","",IF(OR(D301="Sí",D301="Canceló tarde"),"Sí","No"))
